BEGIN:VCALENDAR
VERSION:2.0
PRODID:-//Becarre Production - ECPv6.15.20//NONSGML v1.0//EN
CALSCALE:GREGORIAN
METHOD:PUBLISH
X-WR-CALNAME:Becarre Production
X-ORIGINAL-URL:https://www.becarreproduction.com
X-WR-CALDESC:Évènements pour Becarre Production
REFRESH-INTERVAL;VALUE=DURATION:PT1H
X-Robots-Tag:noindex
X-PUBLISHED-TTL:PT1H
BEGIN:VTIMEZONE
TZID:Europe/Paris
BEGIN:DAYLIGHT
TZOFFSETFROM:+0100
TZOFFSETTO:+0200
TZNAME:CEST
DTSTART:20250330T010000
END:DAYLIGHT
BEGIN:STANDARD
TZOFFSETFROM:+0200
TZOFFSETTO:+0100
TZNAME:CET
DTSTART:20251026T010000
END:STANDARD
BEGIN:DAYLIGHT
TZOFFSETFROM:+0100
TZOFFSETTO:+0200
TZNAME:CEST
DTSTART:20260329T010000
END:DAYLIGHT
BEGIN:STANDARD
TZOFFSETFROM:+0200
TZOFFSETTO:+0100
TZNAME:CET
DTSTART:20261025T010000
END:STANDARD
BEGIN:DAYLIGHT
TZOFFSETFROM:+0100
TZOFFSETTO:+0200
TZNAME:CEST
DTSTART:20270328T010000
END:DAYLIGHT
BEGIN:STANDARD
TZOFFSETFROM:+0200
TZOFFSETTO:+0100
TZNAME:CET
DTSTART:20271031T010000
END:STANDARD
END:VTIMEZONE
BEGIN:VEVENT
DTSTART;TZID=Europe/Paris:20260502T203000
DTEND;TZID=Europe/Paris:20260502T203000
DTSTAMP:20260423T140339
CREATED:20260413T163228Z
LAST-MODIFIED:20260413T163228Z
UID:1618-1777753800-1777753800@www.becarreproduction.com
SUMMARY:Tanya Wyss - La Ruche en Scène
DESCRIPTION:Avec douceur\, autodérision et surtout beaucoup de sincérité\, Tania Wyss raconte sa vie de femme et d’artiste en chansons. Tantôt douce et poétique\, tantôt acide\, elle aborde des sujets intimes et parfois tabous comme le cycle menstruel\, la contraception\, l’absence de désir d’enfant. Femme\, homme et tout ce qu’il y a entre les deux\, soyez transporté.e dans une aventure cathartique teintée de sensibilité et de conviction.
URL:https://www.becarreproduction.com/evenement/tanya-wyss-theatre-de-la-noue-2/
LOCATION:La Ruche en Scène\, 24 bis rue de la Tour Neuve\, Orléans\, 45000\, France
CATEGORIES:Concert,Tania Wyss
ATTACH;FMTTYPE=image/jpeg:https://www.becarreproduction.com/wp-content/uploads/2025/10/Tania-Wyss-se-radicalise-affiche-petit-manoir-e1761240023927.jpeg
END:VEVENT
BEGIN:VEVENT
DTSTART;TZID=Europe/Paris:20260626T190000
DTEND;TZID=Europe/Paris:20260626T190000
DTSTAMP:20260423T140339
CREATED:20260413T163352Z
LAST-MODIFIED:20260413T163352Z
UID:1622-1782500400-1782500400@www.becarreproduction.com
SUMMARY:Tanya Wyss - Solo Théâtre
DESCRIPTION:Avec douceur\, autodérision et surtout beaucoup de sincérité\, Tania Wyss raconte sa vie de femme et d’artiste en chansons. Tantôt douce et poétique\, tantôt acide\, elle aborde des sujets intimes et parfois tabous comme le cycle menstruel\, la contraception\, l’absence de désir d’enfant. Femme\, homme et tout ce qu’il y a entre les deux\, soyez transporté.e dans une aventure cathartique teintée de sensibilité et de conviction.
URL:https://www.becarreproduction.com/evenement/tanya-wyss-solo-theatre-2/
LOCATION:Solo Théâtre\, 138 Boulevard Richard Lenoir\, Paris\, 138 Boulevard Richard Lenoir 75011\, France
CATEGORIES:Concert,Tania Wyss
ATTACH;FMTTYPE=image/jpeg:https://www.becarreproduction.com/wp-content/uploads/2025/10/Tania-Wyss-se-radicalise-affiche-petit-manoir-e1761240023927.jpeg
END:VEVENT
END:VCALENDAR